BEGIN:VCALENDAR
VERSION:2.0
PRODID:-//Politics of Sustainability - ECPv6.15.17//NONSGML v1.0//EN
CALSCALE:GREGORIAN
METHOD:PUBLISH
X-ORIGINAL-URL:https://www.politics4sustainability.org
X-WR-CALDESC:Events for Politics of Sustainability
REFRESH-INTERVAL;VALUE=DURATION:PT1H
X-Robots-Tag:noindex
X-PUBLISHED-TTL:PT1H
BEGIN:VTIMEZONE
TZID:Europe/Oslo
BEGIN:DAYLIGHT
TZOFFSETFROM:+0100
TZOFFSETTO:+0200
TZNAME:CEST
DTSTART:20240331T010000
END:DAYLIGHT
BEGIN:STANDARD
TZOFFSETFROM:+0200
TZOFFSETTO:+0100
TZNAME:CET
DTSTART:20241027T010000
END:STANDARD
BEGIN:DAYLIGHT
TZOFFSETFROM:+0100
TZOFFSETTO:+0200
TZNAME:CEST
DTSTART:20250330T010000
END:DAYLIGHT
BEGIN:STANDARD
TZOFFSETFROM:+0200
TZOFFSETTO:+0100
TZNAME:CET
DTSTART:20251026T010000
END:STANDARD
BEGIN:DAYLIGHT
TZOFFSETFROM:+0100
TZOFFSETTO:+0200
TZNAME:CEST
DTSTART:20260329T010000
END:DAYLIGHT
BEGIN:STANDARD
TZOFFSETFROM:+0200
TZOFFSETTO:+0100
TZNAME:CET
DTSTART:20261025T010000
END:STANDARD
END:VTIMEZONE
BEGIN:VEVENT
DTSTART;TZID=Europe/Oslo:20251031T110000
DTEND;TZID=Europe/Oslo:20251031T120000
DTSTAMP:20260425T033332
CREATED:20251027T125243Z
LAST-MODIFIED:20251027T125243Z
UID:1440-1761908400-1761912000@www.politics4sustainability.org
SUMMARY:Tanzania’s Post-Election Landscape – Legitimacy\, Participation\, and Regional Implications
DESCRIPTION:Held in the immediate aftermath of Tanzania’s national election\, this panel examines the political\, social\, and regional dynamics that will shape the country’s trajectory in the months ahead. \n\nSee more information on the University of Oslo’s website here.
URL:https://www.politics4sustainability.org/event/tanzanias-post-election-landscape/
LOCATION:Union 371\, Problemveien 11\, Oslo\, Norway
CATEGORIES:Research,Sustainability
ATTACH;FMTTYPE=image/jpeg:https://www.politics4sustainability.org/wp-content/uploads/2025/10/election-tanzania.jpg
END:VEVENT
END:VCALENDAR