BEGIN:VCALENDAR
VERSION:2.0
PRODID:-//Politics of Sustainability - ECPv6.15.17//NONSGML v1.0//EN
CALSCALE:GREGORIAN
METHOD:PUBLISH
X-ORIGINAL-URL:https://www.politics4sustainability.org
X-WR-CALDESC:Events for Politics of Sustainability
REFRESH-INTERVAL;VALUE=DURATION:PT1H
X-Robots-Tag:noindex
X-PUBLISHED-TTL:PT1H
BEGIN:VTIMEZONE
TZID:Europe/Oslo
BEGIN:DAYLIGHT
TZOFFSETFROM:+0100
TZOFFSETTO:+0200
TZNAME:CEST
DTSTART:20240331T010000
END:DAYLIGHT
BEGIN:STANDARD
TZOFFSETFROM:+0200
TZOFFSETTO:+0100
TZNAME:CET
DTSTART:20241027T010000
END:STANDARD
BEGIN:DAYLIGHT
TZOFFSETFROM:+0100
TZOFFSETTO:+0200
TZNAME:CEST
DTSTART:20250330T010000
END:DAYLIGHT
BEGIN:STANDARD
TZOFFSETFROM:+0200
TZOFFSETTO:+0100
TZNAME:CET
DTSTART:20251026T010000
END:STANDARD
BEGIN:DAYLIGHT
TZOFFSETFROM:+0100
TZOFFSETTO:+0200
TZNAME:CEST
DTSTART:20260329T010000
END:DAYLIGHT
BEGIN:STANDARD
TZOFFSETFROM:+0200
TZOFFSETTO:+0100
TZNAME:CET
DTSTART:20261025T010000
END:STANDARD
END:VTIMEZONE
BEGIN:VEVENT
DTSTART;TZID=Europe/Oslo:20251014T140000
DTEND;TZID=Europe/Oslo:20251014T153000
DTSTAMP:20260425T035048
CREATED:20250930T124759Z
LAST-MODIFIED:20250930T124759Z
UID:1371-1760450400-1760455800@www.politics4sustainability.org
SUMMARY:Democracy\, Development\, and the 2025 Elections in Malawi
DESCRIPTION:This panel discussion will offer an in-depth analysis of the political\, economic\, and social dynamics that shaped voter sentiment in Malawi’s September elections. \nSee more information on the University of Oslo’s website here.
URL:https://www.politics4sustainability.org/event/democracy-development-and-the-2025-elections-in-malawi/
LOCATION:Stallen\, Professorboligen\, Karl Johans gate 47\, Oslo\, Norway
CATEGORIES:Research,Sustainability
ATTACH;FMTTYPE=image/jpeg:https://www.politics4sustainability.org/wp-content/uploads/2025/09/malawi.jpg
END:VEVENT
BEGIN:VEVENT
DTSTART;TZID=Europe/Oslo:20251016T090000
DTEND;TZID=Europe/Oslo:20251016T133000
DTSTAMP:20260425T035048
CREATED:20250825T131043Z
LAST-MODIFIED:20250930T124905Z
UID:981-1760605200-1760621400@www.politics4sustainability.org
SUMMARY:Advancing Sustainable Development in a Multipolar World
DESCRIPTION:Welcome to this event where we examine how the rise of the Global South\, shifting geopolitical dynamics\, and emerging forms of cooperation are reshaping the landscape for achieving sustainable development. \nSee more information on the University of Oslo’s website here.
URL:https://www.politics4sustainability.org/event/advancing-sustainable-development-in-a-multipolar-world/
LOCATION:Domus Bibliotheca\, University of Oslo\, Karl Johans gate 47\, Oslo\, Norway
CATEGORIES:Research,Sustainability
ATTACH;FMTTYPE=image/jpeg:https://www.politics4sustainability.org/wp-content/uploads/2025/05/article-03.jpg
END:VEVENT
BEGIN:VEVENT
DTSTART;TZID=Europe/Oslo:20251031T110000
DTEND;TZID=Europe/Oslo:20251031T120000
DTSTAMP:20260425T035048
CREATED:20251027T125243Z
LAST-MODIFIED:20251027T125243Z
UID:1440-1761908400-1761912000@www.politics4sustainability.org
SUMMARY:Tanzania’s Post-Election Landscape – Legitimacy\, Participation\, and Regional Implications
DESCRIPTION:Held in the immediate aftermath of Tanzania’s national election\, this panel examines the political\, social\, and regional dynamics that will shape the country’s trajectory in the months ahead. \n\nSee more information on the University of Oslo’s website here.
URL:https://www.politics4sustainability.org/event/tanzanias-post-election-landscape/
LOCATION:Union 371\, Problemveien 11\, Oslo\, Norway
CATEGORIES:Research,Sustainability
ATTACH;FMTTYPE=image/jpeg:https://www.politics4sustainability.org/wp-content/uploads/2025/10/election-tanzania.jpg
END:VEVENT
END:VCALENDAR